BEGIN:VCALENDAR
VERSION:2.0
PRODID:-//Harrington Park Probus - ECPv6.15.15//NONSGML v1.0//EN
CALSCALE:GREGORIAN
METHOD:PUBLISH
X-WR-CALNAME:Harrington Park Probus
X-ORIGINAL-URL:https://hpp.org.au
X-WR-CALDESC:Events for Harrington Park Probus
REFRESH-INTERVAL;VALUE=DURATION:PT1H
X-Robots-Tag:noindex
X-PUBLISHED-TTL:PT1H
BEGIN:VTIMEZONE
TZID:Australia/Sydney
BEGIN:STANDARD
TZOFFSETFROM:+1100
TZOFFSETTO:+1000
TZNAME:AEST
DTSTART:20250405T160000
END:STANDARD
BEGIN:DAYLIGHT
TZOFFSETFROM:+1000
TZOFFSETTO:+1100
TZNAME:AEDT
DTSTART:20251004T160000
END:DAYLIGHT
BEGIN:STANDARD
TZOFFSETFROM:+1100
TZOFFSETTO:+1000
TZNAME:AEST
DTSTART:20260404T160000
END:STANDARD
BEGIN:DAYLIGHT
TZOFFSETFROM:+1000
TZOFFSETTO:+1100
TZNAME:AEDT
DTSTART:20261003T160000
END:DAYLIGHT
BEGIN:STANDARD
TZOFFSETFROM:+1100
TZOFFSETTO:+1000
TZNAME:AEST
DTSTART:20270403T160000
END:STANDARD
BEGIN:DAYLIGHT
TZOFFSETFROM:+1000
TZOFFSETTO:+1100
TZNAME:AEDT
DTSTART:20271002T160000
END:DAYLIGHT
END:VTIMEZONE
BEGIN:VEVENT
DTSTART;TZID=Australia/Sydney:20260428T100000
DTEND;TZID=Australia/Sydney:20260428T120000
DTSTAMP:20260423T001758
CREATED:20241209T055351Z
LAST-MODIFIED:20260328T062705Z
UID:4678-1777370400-1777377600@hpp.org.au
SUMMARY:General Meeting
DESCRIPTION:General Meeting \nLakeside Golf Club Camden 50 Raby Road\, Gledswood Hills\, NSW\, Australia \nMonthly General Meeting Camden Lakeside. Apologies to: Email: To the Secretary
URL:https://hpp.org.au/whats-on/general-meeting-13/
LOCATION:Lakeside Golf Club Camden\, 50 Raby Road\, Gledswood Hills\, NSW\, 2577\, Australia
ATTACH;FMTTYPE=image/png:https://hpp.org.au/wp-content/uploads/2023/05/cropped-ReathLogo.png
END:VEVENT
BEGIN:VEVENT
DTSTART;TZID=Australia/Sydney:20260420T130000
DTEND;TZID=Australia/Sydney:20260420T150000
DTSTAMP:20260423T001758
CREATED:20260216T040920Z
LAST-MODIFIED:20260328T062447Z
UID:5339-1776690000-1776697200@hpp.org.au
SUMMARY:Games Afternoon
DESCRIPTION:COME AND JOIN US FOR AN AFTERNOON OF GAMES!!!\nClub Members and friends are invited to come to our Games Afternoon. These meetings take place at Wests Country Club Gledswood Hills on the 3rd Monday of each month at 1 pm. Attending members can play many different games (Playing Cards\, Sequence\, Trionimos\, Ludo\, etc)\, and if you have a favourite game – bring it in. We can have fun while meeting other Club Members for a casual chat. \nCost: $2 \nTalk to Maureen for additional information
URL:https://hpp.org.au/whats-on/games-afternoons-2/
LOCATION:Country Club Gledswood Hills
ATTACH;FMTTYPE=image/jpeg:https://hpp.org.au/wp-content/uploads/2025/05/Afternoon-Games.jpg
END:VEVENT
BEGIN:VEVENT
DTSTART;TZID=Australia/Sydney:20260420T100000
DTEND;TZID=Australia/Sydney:20260420T120000
DTSTAMP:20260423T001758
CREATED:20260228T044216Z
LAST-MODIFIED:20260328T062350Z
UID:5414-1776679200-1776686400@hpp.org.au
SUMMARY:Committee Meeting
DESCRIPTION:
URL:https://hpp.org.au/whats-on/committee-meeting/
END:VEVENT
BEGIN:VEVENT
DTSTART;TZID=Australia/Sydney:20260416T111500
DTEND;TZID=Australia/Sydney:20260416T130000
DTSTAMP:20260423T001758
CREATED:20260225T051909Z
LAST-MODIFIED:20260413T113446Z
UID:5336-1776338100-1776344400@hpp.org.au
SUMMARY:Alan Baker Art Gallery
DESCRIPTION:« All Events \nAlan Baker Art Gallery\nApril 16\n@\n11:30 am\n–\n1:00 pm \nFree \n \nFree tour of this Gallery in Camden. Followed by lunch \nPeggy Kemp\n\n0438409617  \n  \nVenue\nAlan Baker Art Gallery\n37 John Street \nCamden\,\nNSW\n2570\nAustralia\n+ Google Map \n  \n\n\n\n\nAdd to calendar \n \n\nGoogle Calendar\niCalendar\nOutlook 365\nOutlook Live\n\n\n\n\nBack to the Tivoli \n\nCommittee Meeting
URL:https://hpp.org.au/whats-on/games-afternoons/
LOCATION:Alan Baker Art Gallery\, 37 John Street\, Camden\, NSW\, 2570\, Australia
ATTACH;FMTTYPE=image/jpeg:https://hpp.org.au/wp-content/uploads/2026/02/Alan-Baker-Art-Gallery-Imageology.jpg
END:VEVENT
BEGIN:VEVENT
DTSTART;TZID=Australia/Sydney:20260401T110000
DTEND;TZID=Australia/Sydney:20260401T123000
DTSTAMP:20260423T001758
CREATED:20260221T043602Z
LAST-MODIFIED:20260226T011823Z
UID:5351-1775041200-1775046600@hpp.org.au
SUMMARY:Back to the Tivoli
DESCRIPTION:
URL:https://hpp.org.au/whats-on/back-to-the-tivoli/
LOCATION:Banksown Spors Club Tivoli\, 8 Greenfield Parade\, Bankstown\, NSW\, 2200
ATTACH;FMTTYPE=image/webp:https://hpp.org.au/wp-content/uploads/2026/02/Tivoli-Theatre.webp
END:VEVENT
END:VCALENDAR