BEGIN:VCALENDAR
VERSION:2.0
PRODID:-//Harrington Park Probus - ECPv6.15.15//NONSGML v1.0//EN
CALSCALE:GREGORIAN
METHOD:PUBLISH
X-ORIGINAL-URL:https://hpp.org.au
X-WR-CALDESC:Events for Harrington Park Probus
REFRESH-INTERVAL;VALUE=DURATION:PT1H
X-Robots-Tag:noindex
X-PUBLISHED-TTL:PT1H
BEGIN:VTIMEZONE
TZID:Australia/Sydney
BEGIN:STANDARD
TZOFFSETFROM:+1100
TZOFFSETTO:+1000
TZNAME:AEST
DTSTART:20250405T160000
END:STANDARD
BEGIN:DAYLIGHT
TZOFFSETFROM:+1000
TZOFFSETTO:+1100
TZNAME:AEDT
DTSTART:20251004T160000
END:DAYLIGHT
BEGIN:STANDARD
TZOFFSETFROM:+1100
TZOFFSETTO:+1000
TZNAME:AEST
DTSTART:20260404T160000
END:STANDARD
BEGIN:DAYLIGHT
TZOFFSETFROM:+1000
TZOFFSETTO:+1100
TZNAME:AEDT
DTSTART:20261003T160000
END:DAYLIGHT
BEGIN:STANDARD
TZOFFSETFROM:+1100
TZOFFSETTO:+1000
TZNAME:AEST
DTSTART:20270403T160000
END:STANDARD
BEGIN:DAYLIGHT
TZOFFSETFROM:+1000
TZOFFSETTO:+1100
TZNAME:AEDT
DTSTART:20271002T160000
END:DAYLIGHT
END:VTIMEZONE
BEGIN:VEVENT
DTSTART;TZID=Australia/Sydney:20260416T111500
DTEND;TZID=Australia/Sydney:20260416T130000
DTSTAMP:20260414T014200
CREATED:20260225T051909Z
LAST-MODIFIED:20260413T113446Z
UID:5336-1776338100-1776344400@hpp.org.au
SUMMARY:Alan Baker Art Gallery
DESCRIPTION:« All Events \nAlan Baker Art Gallery\nApril 16\n@\n11:30 am\n–\n1:00 pm \nFree \n \nFree tour of this Gallery in Camden. Followed by lunch \nPeggy Kemp\n\n0438409617  \n  \nVenue\nAlan Baker Art Gallery\n37 John Street \nCamden\,\nNSW\n2570\nAustralia\n+ Google Map \n  \n\n\n\n\nAdd to calendar \n \n\nGoogle Calendar\niCalendar\nOutlook 365\nOutlook Live\n\n\n\n\nBack to the Tivoli \n\nCommittee Meeting
URL:https://hpp.org.au/whats-on/games-afternoons/
LOCATION:Alan Baker Art Gallery\, 37 John Street\, Camden\, NSW\, 2570\, Australia
ATTACH;FMTTYPE=image/jpeg:https://hpp.org.au/wp-content/uploads/2026/02/Alan-Baker-Art-Gallery-Imageology.jpg
END:VEVENT
BEGIN:VEVENT
DTSTART;TZID=Australia/Sydney:20260420T100000
DTEND;TZID=Australia/Sydney:20260420T120000
DTSTAMP:20260414T014200
CREATED:20260228T044216Z
LAST-MODIFIED:20260328T062350Z
UID:5414-1776679200-1776686400@hpp.org.au
SUMMARY:Committee Meeting
DESCRIPTION:
URL:https://hpp.org.au/whats-on/committee-meeting/
END:VEVENT
BEGIN:VEVENT
DTSTART;TZID=Australia/Sydney:20260420T130000
DTEND;TZID=Australia/Sydney:20260420T150000
DTSTAMP:20260414T014200
CREATED:20260216T040920Z
LAST-MODIFIED:20260328T062447Z
UID:5339-1776690000-1776697200@hpp.org.au
SUMMARY:Games Afternoon
DESCRIPTION:COME AND JOIN US FOR AN AFTERNOON OF GAMES!!!\nClub Members and friends are invited to come to our Games Afternoon. These meetings take place at Wests Country Club Gledswood Hills on the 3rd Monday of each month at 1 pm. Attending members can play many different games (Playing Cards\, Sequence\, Trionimos\, Ludo\, etc)\, and if you have a favourite game – bring it in. We can have fun while meeting other Club Members for a casual chat. \nCost: $2 \nTalk to Maureen for additional information
URL:https://hpp.org.au/whats-on/games-afternoons-2/
LOCATION:Country Club Gledswood Hills
ATTACH;FMTTYPE=image/jpeg:https://hpp.org.au/wp-content/uploads/2025/05/Afternoon-Games.jpg
END:VEVENT
BEGIN:VEVENT
DTSTART;TZID=Australia/Sydney:20260428T100000
DTEND;TZID=Australia/Sydney:20260428T120000
DTSTAMP:20260414T014200
CREATED:20241209T055351Z
LAST-MODIFIED:20260328T062705Z
UID:4678-1777370400-1777377600@hpp.org.au
SUMMARY:General Meeting
DESCRIPTION:General Meeting \nLakeside Golf Club Camden 50 Raby Road\, Gledswood Hills\, NSW\, Australia \nMonthly General Meeting Camden Lakeside. Apologies to: Email: To the Secretary
URL:https://hpp.org.au/whats-on/general-meeting-13/
LOCATION:Lakeside Golf Club Camden\, 50 Raby Road\, Gledswood Hills\, NSW\, 2577\, Australia
ATTACH;FMTTYPE=image/png:https://hpp.org.au/wp-content/uploads/2023/05/cropped-ReathLogo.png
END:VEVENT
BEGIN:VEVENT
DTSTART;TZID=Australia/Sydney:20260518T100000
DTEND;TZID=Australia/Sydney:20260518T120000
DTSTAMP:20260414T014200
CREATED:20241209T053840Z
LAST-MODIFIED:20260228T045019Z
UID:4655-1779098400-1779105600@hpp.org.au
SUMMARY:Committee Meeting
DESCRIPTION:We have relocated our Committee meetings to Wests Country Club in Gledswood Hills.\nAs the club does not open until 10.30 am\, our meetings will now commence at a later time. \nApologies to: \nEmail: To the Secretary \nPlease enable JavaScript in your browser to complete this form.Your Name *Email Address *PhoneMessage *MessageSEND MESSAGE
URL:https://hpp.org.au/whats-on/committee-meeting-11/
LOCATION:Country Club Gledswood Hills
ATTACH;FMTTYPE=image/png:https://hpp.org.au/wp-content/uploads/2023/05/cropped-ReathLogo.png
END:VEVENT
BEGIN:VEVENT
DTSTART;TZID=Australia/Sydney:20260518T130000
DTEND;TZID=Australia/Sydney:20260518T150000
DTSTAMP:20260414T014200
CREATED:20260216T041919Z
LAST-MODIFIED:20260328T062553Z
UID:5338-1779109200-1779116400@hpp.org.au
SUMMARY:Games Afternoon
DESCRIPTION:COME AND JOIN US FOR AN AFTERNOON OF GAMES!!!\nClub Members and friends are invited to come to our Games Afternoon. These meetings take place at Wests Country Club Gledswood Hills on the 3rd Monday of each month at 1 pm. Attending members can play many different games (Playing Cards\, Sequence\, Trionimos\, Ludo\, etc)\, and if you have a favourite game – bring it in. We can have fun while meeting other Club Members for a casual chat. \nCost: $2 \nTalk to Maureen for additional information
URL:https://hpp.org.au/whats-on/games-afternoons-3/
LOCATION:Country Club Gledswood Hills
ATTACH;FMTTYPE=image/jpeg:https://hpp.org.au/wp-content/uploads/2025/05/Afternoon-Games.jpg
END:VEVENT
BEGIN:VEVENT
DTSTART;TZID=Australia/Sydney:20260525T100000
DTEND;TZID=Australia/Sydney:20260525T120000
DTSTAMP:20260414T014200
CREATED:20260228T044423Z
LAST-MODIFIED:20260228T045324Z
UID:5416-1779703200-1779710400@hpp.org.au
SUMMARY:General Meeting
DESCRIPTION:
URL:https://hpp.org.au/whats-on/general-meeting/
END:VEVENT
BEGIN:VEVENT
DTSTART;TZID=Australia/Sydney:20260531T000000
DTEND;TZID=Australia/Sydney:20260531T000000
DTSTAMP:20260414T014200
CREATED:20260226T004803Z
LAST-MODIFIED:20260226T010858Z
UID:5406-1780185600-1780185600@hpp.org.au
SUMMARY:NSW Government House Tour (this is an event still in the making. Watch this space for further details)
DESCRIPTION:
URL:https://hpp.org.au/whats-on/nsw-government-house-tour-this-is-an-event-still-in-the-making-watch-this-space-for-further-details/
ATTACH;FMTTYPE=image/jpeg:https://hpp.org.au/wp-content/uploads/2026/02/government-house-in-sydney-city-centre-heritage-listed-home-to-the-governor-of-new-south-walesaustralia-T43A6B.jpg
END:VEVENT
BEGIN:VEVENT
DTSTART;TZID=Australia/Sydney:20260625T120000
DTEND;TZID=Australia/Sydney:20260625T150000
DTSTAMP:20260414T014200
CREATED:20260226T005811Z
LAST-MODIFIED:20260226T010218Z
UID:5409-1782388800-1782399600@hpp.org.au
SUMMARY:June Lunch @ Enzo's Cucina Gregory Hills
DESCRIPTION:
URL:https://hpp.org.au/whats-on/june-lunch-enzos-cucina-gregory-hills/
ATTACH;FMTTYPE=image/webp:https://hpp.org.au/wp-content/uploads/2026/02/GregoryHills_Compressed-2-scaled-1.webp
END:VEVENT
BEGIN:VEVENT
DTSTART;TZID=Australia/Sydney:20260716T130000
DTEND;TZID=Australia/Sydney:20260716T153000
DTSTAMP:20260414T014200
CREATED:20260218T230612Z
LAST-MODIFIED:20260218T230612Z
UID:5353-1784206800-1784215800@hpp.org.au
SUMMARY:The Lion King
DESCRIPTION:
URL:https://hpp.org.au/whats-on/the-lion-king/
LOCATION:Capitol Theatre\, 13 Campbell St\, Haymarket\, NSW\, 2000\, Australia
ATTACH;FMTTYPE=image/jpeg:https://hpp.org.au/wp-content/uploads/2026/02/81DOCu7iNL._AC_SL1500_.jpg
ORGANIZER;CN="Terry Watson":MAILTO:watsontr3@bigpond.com
END:VEVENT
BEGIN:VEVENT
DTSTART;TZID=Australia/Sydney:20260805T130000
DTEND;TZID=Australia/Sydney:20260805T130000
DTSTAMP:20260414T014200
CREATED:20260220T171957Z
LAST-MODIFIED:20260220T172114Z
UID:5359-1785934800-1785934800@hpp.org.au
SUMMARY:Waitress - The Musical
DESCRIPTION:
URL:https://hpp.org.au/whats-on/waitress-the-musical/
LOCATION:Lyric Theatre\, 55 Pirrama Rd\, Pyrmont\, NSW\, 2009\, Australia
ATTACH;FMTTYPE=image/jpeg:https://hpp.org.au/wp-content/uploads/2026/02/Waitress-web-images.jpg
ORGANIZER;CN="Terry Watson":MAILTO:watsontr3@bigpond.com
END:VEVENT
BEGIN:VEVENT
DTSTART;TZID=Australia/Sydney:20260826T130000
DTEND;TZID=Australia/Sydney:20260826T150000
DTSTAMP:20260414T014200
CREATED:20260220T065437Z
LAST-MODIFIED:20260220T065437Z
UID:5343-1787749200-1787756400@hpp.org.au
SUMMARY:Fiddler On The Roof
DESCRIPTION:COME AND JOIN US FOR AN AFTERNOON OF GAMES!!!\nClub Members and friends are invited to come to our Games Afternoon. These meetings take place at Wests Country Club Gledswood Hills on the 3rd Monday of each month at 1 pm. Attending members can play many different games (Playing Cards\, Sequence\, Trionimos\, Ludo\, etc)\, and if you have a favourite game – bring it in. We can have fun while meeting other Club Members for a casual chat. \nCost: $2 \nTalk to Maureen for additional information
URL:https://hpp.org.au/whats-on/fiddler-on-the-roof/
LOCATION:Theatre Royal Sydney\, 25 Martin Place\, Sydney\, NSW\, 2000\, Australia
ATTACH;FMTTYPE=image/jpeg:https://hpp.org.au/wp-content/uploads/2026/02/fiddler-on-the-roof.jpg
ORGANIZER;CN="Terry Watson":MAILTO:watsontr3@bigpond.com
END:VEVENT
BEGIN:VEVENT
DTSTART;TZID=Australia/Sydney:20260923T130000
DTEND;TZID=Australia/Sydney:20260923T153000
DTSTAMP:20260414T014200
CREATED:20260220T064423Z
LAST-MODIFIED:20260220T064423Z
UID:5364-1790168400-1790177400@hpp.org.au
SUMMARY:My Fair Lady
DESCRIPTION:
URL:https://hpp.org.au/whats-on/my-fair-lady/
LOCATION:Sydney Opera House\, Bennelong Point\, Sydney\, NSW\, 2000\, Australia
ATTACH;FMTTYPE=image/jpeg:https://hpp.org.au/wp-content/uploads/2026/02/MyFairLadyMusicalatSydneyOperaHouse.jpg
ORGANIZER;CN="Terry Watson":MAILTO:watsontr3@bigpond.com
END:VEVENT
BEGIN:VEVENT
DTSTART;TZID=Australia/Sydney:20261215T183000
DTEND;TZID=Australia/Sydney:20261215T203000
DTSTAMP:20260414T014200
CREATED:20260220T174700Z
LAST-MODIFIED:20260220T174850Z
UID:5352-1797359400-1797366600@hpp.org.au
SUMMARY:The Whispering Jack Show
DESCRIPTION:
URL:https://hpp.org.au/whats-on/the-whispering-jack-show/
LOCATION:Roslyn Packer Theatr Sydney
ATTACH;FMTTYPE=image/jpeg:https://hpp.org.au/wp-content/uploads/2026/02/2024_07_03_WhisperingJack_Tile2__FocusFillWzE5MiwxOTIsZmFsc2UsMF0.jpg
ORGANIZER;CN="Terry Watson":MAILTO:watsontr3@bigpond.com
END:VEVENT
END:VCALENDAR